BEGIN:VCALENDAR
VERSION:2.0
PRODID:-//ZeusonMedicines Pvt Ltd - ECPv6.13.2.1//NONSGML v1.0//EN
CALSCALE:GREGORIAN
METHOD:PUBLISH
X-WR-CALNAME:ZeusonMedicines Pvt Ltd
X-ORIGINAL-URL:https://zeusonmedicines.com
X-WR-CALDESC:Events for ZeusonMedicines Pvt Ltd
REFRESH-INTERVAL;VALUE=DURATION:PT1H
X-Robots-Tag:noindex
X-PUBLISHED-TTL:PT1H
BEGIN:VTIMEZONE
TZID:UTC
BEGIN:STANDARD
TZOFFSETFROM:+0000
TZOFFSETTO:+0000
TZNAME:UTC
DTSTART:20150101T000000
END:STANDARD
END:VTIMEZONE
BEGIN:VEVENT
DTSTART;VALUE=DATE:20171115
DTEND;VALUE=DATE:20171116
DTSTAMP:20260423T181902
CREATED:20140913T041913Z
LAST-MODIFIED:20140913T041913Z
UID:268-1510704000-1510790399@zeusonmedicines.com
SUMMARY:Sed feugiat metus nec arcu
DESCRIPTION:[vc_row][vc_column] \nNulla tempus neque massa\, id mollis neque convallis ut. Morbi est velit\, tincidunt quis felis et\, consequat mollis nibh. Aliquam porttitor metus augue\, vel commodo nisi viverra nec. Praesent eget adipiscing nisi\, a vehicula tellus. Mauris vitae accumsan lectus\, quis pellentesque nisl. Aliquam tincidunt molestie magna\, nec aliquam dui lacinia quis. Cras elementum tortor eget nunc sollicitudin tincidunt. Sed rutrum nulla fringilla lorem ultrices rhoncus. Cras non dolor id elit rhoncus tempus. Pellentesque mattis\, nibh dignissim adipiscing convallis\, enim lectus viverra enim\, ac fermentum nunc nibh non lectus. Donec aliquet diam sit amet nibh adipiscing pharetra at eu mi. In in porta dui. Suspendisse sed tellus mattis\, consectetur neque eget\, sodales lorem. Morbi eu egestas leo\, ut suscipit nisi. Curabitur ultricies faucibus massa\, at dictum turpis scelerisque in. Aenean ut fermentum ipsum. Integer tincidunt sapien sit amet nibh varius\, non mollis metus tincidunt. \n[/vc_column][/vc_row]
URL:https://zeusonmedicines.com/event/sed-feugiat-metus-nec-arcu/
LOCATION:Indoor Stadium\, 5\, Station Road\, California\, CA\, 90013\, United States
ATTACH;FMTTYPE=:
ORGANIZER;CN="Best Event Makers":MAILTO:info@bestevtmkrs.com
END:VEVENT
BEGIN:VEVENT
DTSTART;VALUE=DATE:20171025
DTEND;VALUE=DATE:20171026
DTSTAMP:20260423T181902
CREATED:20140913T041909Z
LAST-MODIFIED:20140913T041909Z
UID:267-1508889600-1508975999@zeusonmedicines.com
SUMMARY:Sed vel urna vitae tortorv
DESCRIPTION:[vc_row][vc_column] \nNulla tempus neque massa\, id mollis neque convallis ut. Morbi est velit\, tincidunt quis felis et\, consequat mollis nibh. Aliquam porttitor metus augue\, vel commodo nisi viverra nec. Praesent eget adipiscing nisi\, a vehicula tellus. Mauris vitae accumsan lectus\, quis pellentesque nisl. Aliquam tincidunt molestie magna\, nec aliquam dui lacinia quis. Cras elementum tortor eget nunc sollicitudin tincidunt. Sed rutrum nulla fringilla lorem ultrices rhoncus. Cras non dolor id elit rhoncus tempus. Pellentesque mattis\, nibh dignissim adipiscing convallis\, enim lectus viverra enim\, ac fermentum nunc nibh non lectus. Donec aliquet diam sit amet nibh adipiscing pharetra at eu mi. In in porta dui. Suspendisse sed tellus mattis\, consectetur neque eget\, sodales lorem. Morbi eu egestas leo\, ut suscipit nisi. Curabitur ultricies faucibus massa\, at dictum turpis scelerisque in. Aenean ut fermentum ipsum. Integer tincidunt sapien sit amet nibh varius\, non mollis metus tincidunt. \n[/vc_column][/vc_row]
URL:https://zeusonmedicines.com/event/sed-vel-urna-vitae-tortorv/
LOCATION:Indoor Stadium\, 5\, Station Road\, California\, CA\, 90013\, United States
ATTACH;FMTTYPE=:
ORGANIZER;CN="Best Event Makers":MAILTO:info@bestevtmkrs.com
END:VEVENT
BEGIN:VEVENT
DTSTART;VALUE=DATE:20170928
DTEND;VALUE=DATE:20170929
DTSTAMP:20260423T181902
CREATED:20140913T041906Z
LAST-MODIFIED:20140913T041906Z
UID:266-1506556800-1506643199@zeusonmedicines.com
SUMMARY:Quisque neceros vitae mase
DESCRIPTION:[vc_row][vc_column] \nNulla tempus neque massa\, id mollis neque convallis ut. Morbi est velit\, tincidunt quis felis et\, consequat mollis nibh. Aliquam porttitor metus augue\, vel commodo nisi viverra nec. Praesent eget adipiscing nisi\, a vehicula tellus. Mauris vitae accumsan lectus\, quis pellentesque nisl. Aliquam tincidunt molestie magna\, nec aliquam dui lacinia quis. Cras elementum tortor eget nunc sollicitudin tincidunt. Sed rutrum nulla fringilla lorem ultrices rhoncus. Cras non dolor id elit rhoncus tempus. Pellentesque mattis\, nibh dignissim adipiscing convallis\, enim lectus viverra enim\, ac fermentum nunc nibh non lectus. Donec aliquet diam sit amet nibh adipiscing pharetra at eu mi. In in porta dui. Suspendisse sed tellus mattis\, consectetur neque eget\, sodales lorem. Morbi eu egestas leo\, ut suscipit nisi. Curabitur ultricies faucibus massa\, at dictum turpis scelerisque in. Aenean ut fermentum ipsum. Integer tincidunt sapien sit amet nibh varius\, non mollis metus tincidunt. \n[/vc_column][/vc_row]
URL:https://zeusonmedicines.com/event/quisque-neceros-vitae-mase/
LOCATION:Indoor Stadium\, 5\, Station Road\, California\, CA\, 90013\, United States
ATTACH;FMTTYPE=:
ORGANIZER;CN="Best Event Makers":MAILTO:info@bestevtmkrs.com
END:VEVENT
BEGIN:VEVENT
DTSTART;VALUE=DATE:20170725
DTEND;VALUE=DATE:20170726
DTSTAMP:20260423T181902
CREATED:20140913T041924Z
LAST-MODIFIED:20140913T041924Z
UID:271-1500940800-1501027199@zeusonmedicines.com
SUMMARY:Supendie vitae lectus dict
DESCRIPTION:[vc_row][vc_column] \nNulla tempus neque massa\, id mollis neque convallis ut. Morbi est velit\, tincidunt quis felis et\, consequat mollis nibh. Aliquam porttitor metus augue\, vel commodo nisi viverra nec. Praesent eget adipiscing nisi\, a vehicula tellus. Mauris vitae accumsan lectus\, quis pellentesque nisl. Aliquam tincidunt molestie magna\, nec aliquam dui lacinia quis. Cras elementum tortor eget nunc sollicitudin tincidunt. Sed rutrum nulla fringilla lorem ultrices rhoncus. Cras non dolor id elit rhoncus tempus. Pellentesque mattis\, nibh dignissim adipiscing convallis\, enim lectus viverra enim\, ac fermentum nunc nibh non lectus. Donec aliquet diam sit amet nibh adipiscing pharetra at eu mi. In in porta dui. Suspendisse sed tellus mattis\, consectetur neque eget\, sodales lorem. Morbi eu egestas leo\, ut suscipit nisi. Curabitur ultricies faucibus massa\, at dictum turpis scelerisque in. Aenean ut fermentum ipsum. Integer tincidunt sapien sit amet nibh varius\, non mollis metus tincidunt. \n[/vc_column][/vc_row]
URL:https://zeusonmedicines.com/event/supendie-vitae-lectus-dicts/
LOCATION:Indoor Stadium\, 5\, Station Road\, California\, CA\, 90013\, United States
ATTACH;FMTTYPE=:
ORGANIZER;CN="Best Event Makers":MAILTO:info@bestevtmkrs.com
END:VEVENT
BEGIN:VEVENT
DTSTART;VALUE=DATE:20170619
DTEND;VALUE=DATE:20170620
DTSTAMP:20260423T181902
CREATED:20140913T040842Z
LAST-MODIFIED:20140913T040842Z
UID:265-1497830400-1497916799@zeusonmedicines.com
SUMMARY:Suspendisse nec lorem vitae
DESCRIPTION:[vc_row][vc_column] \nNulla tempus neque massa\, id mollis neque convallis ut. Morbi est velit\, tincidunt quis felis et\, consequat mollis nibh. Aliquam porttitor metus augue\, vel commodo nisi viverra nec. Praesent eget adipiscing nisi\, a vehicula tellus. Mauris vitae accumsan lectus\, quis pellentesque nisl. Aliquam tincidunt molestie magna\, nec aliquam dui lacinia quis. Cras elementum tortor eget nunc sollicitudin tincidunt. Sed rutrum nulla fringilla lorem ultrices rhoncus. Cras non dolor id elit rhoncus tempus. Pellentesque mattis\, nibh dignissim adipiscing convallis\, enim lectus viverra enim\, ac fermentum nunc nibh non lectus. Donec aliquet diam sit amet nibh adipiscing pharetra at eu mi. In in porta dui. Suspendisse sed tellus mattis\, consectetur neque eget\, sodales lorem. Morbi eu egestas leo\, ut suscipit nisi. Curabitur ultricies faucibus massa\, at dictum turpis scelerisque in. Aenean ut fermentum ipsum. Integer tincidunt sapien sit amet nibh varius\, non mollis metus tincidunt. \n[/vc_column][/vc_row]
URL:https://zeusonmedicines.com/event/supendie-vitae-lectus-dict/
LOCATION:Indoor Stadium\, 5\, Station Road\, California\, CA\, 90013\, United States
ATTACH;FMTTYPE=:
ORGANIZER;CN="Best Event Makers":MAILTO:info@bestevtmkrs.com
END:VEVENT
BEGIN:VEVENT
DTSTART;VALUE=DATE:20170514
DTEND;VALUE=DATE:20170515
DTSTAMP:20260423T181902
CREATED:20140913T041944Z
LAST-MODIFIED:20140913T041944Z
UID:276-1494720000-1494806399@zeusonmedicines.com
SUMMARY:Nunc id ligula gravidant
DESCRIPTION:[vc_row][vc_column] \nNulla tempus neque massa\, id mollis neque convallis ut. Morbi est velit\, tincidunt quis felis et\, consequat mollis nibh. Aliquam porttitor metus augue\, vel commodo nisi viverra nec. Praesent eget adipiscing nisi\, a vehicula tellus. Mauris vitae accumsan lectus\, quis pellentesque nisl. Aliquam tincidunt molestie magna\, nec aliquam dui lacinia quis. Cras elementum tortor eget nunc sollicitudin tincidunt. Sed rutrum nulla fringilla lorem ultrices rhoncus. Cras non dolor id elit rhoncus tempus. Pellentesque mattis\, nibh dignissim adipiscing convallis\, enim lectus viverra enim\, ac fermentum nunc nibh non lectus. Donec aliquet diam sit amet nibh adipiscing pharetra at eu mi. In in porta dui. Suspendisse sed tellus mattis\, consectetur neque eget\, sodales lorem. Morbi eu egestas leo\, ut suscipit nisi. Curabitur ultricies faucibus massa\, at dictum turpis scelerisque in. Aenean ut fermentum ipsum. Integer tincidunt sapien sit amet nibh varius\, non mollis metus tincidunt. \n[/vc_column][/vc_row]
URL:https://zeusonmedicines.com/event/nunc-id-ligula-gravidant/
LOCATION:Indoor Stadium\, 5\, Station Road\, California\, CA\, 90013\, United States
ATTACH;FMTTYPE=:
ORGANIZER;CN="Best Event Makers":MAILTO:info@bestevtmkrs.com
END:VEVENT
BEGIN:VEVENT
DTSTART;VALUE=DATE:20170423
DTEND;VALUE=DATE:20170424
DTSTAMP:20260423T181902
CREATED:20140913T041916Z
LAST-MODIFIED:20140913T041916Z
UID:269-1492905600-1492991999@zeusonmedicines.com
SUMMARY:Mauris vehicula nisi acpur
DESCRIPTION:[vc_row][vc_column] \nNulla tempus neque massa\, id mollis neque convallis ut. Morbi est velit\, tincidunt quis felis et\, consequat mollis nibh. Aliquam porttitor metus augue\, vel commodo nisi viverra nec. Praesent eget adipiscing nisi\, a vehicula tellus. Mauris vitae accumsan lectus\, quis pellentesque nisl. Aliquam tincidunt molestie magna\, nec aliquam dui lacinia quis. Cras elementum tortor eget nunc sollicitudin tincidunt. Sed rutrum nulla fringilla lorem ultrices rhoncus. Cras non dolor id elit rhoncus tempus. Pellentesque mattis\, nibh dignissim adipiscing convallis\, enim lectus viverra enim\, ac fermentum nunc nibh non lectus. Donec aliquet diam sit amet nibh adipiscing pharetra at eu mi. In in porta dui. Suspendisse sed tellus mattis\, consectetur neque eget\, sodales lorem. Morbi eu egestas leo\, ut suscipit nisi. Curabitur ultricies faucibus massa\, at dictum turpis scelerisque in. Aenean ut fermentum ipsum. Integer tincidunt sapien sit amet nibh varius\, non mollis metus tincidunt. \n[/vc_column][/vc_row]
URL:https://zeusonmedicines.com/event/mauris-vehicula-nisi-acpur/
LOCATION:Indoor Stadium\, 5\, Station Road\, California\, CA\, 90013\, United States
ATTACH;FMTTYPE=:
ORGANIZER;CN="Best Event Makers":MAILTO:info@bestevtmkrs.com
END:VEVENT
BEGIN:VEVENT
DTSTART;VALUE=DATE:20160424
DTEND;VALUE=DATE:20160425
DTSTAMP:20260423T181902
CREATED:20140913T041932Z
LAST-MODIFIED:20140913T041932Z
UID:273-1461456000-1461542399@zeusonmedicines.com
SUMMARY:Duis posuere libero utlis
DESCRIPTION:[vc_row][vc_column] \nNulla tempus neque massa\, id mollis neque convallis ut. Morbi est velit\, tincidunt quis felis et\, consequat mollis nibh. Aliquam porttitor metus augue\, vel commodo nisi viverra nec. Praesent eget adipiscing nisi\, a vehicula tellus. Mauris vitae accumsan lectus\, quis pellentesque nisl. Aliquam tincidunt molestie magna\, nec aliquam dui lacinia quis. Cras elementum tortor eget nunc sollicitudin tincidunt. Sed rutrum nulla fringilla lorem ultrices rhoncus. Cras non dolor id elit rhoncus tempus. Pellentesque mattis\, nibh dignissim adipiscing convallis\, enim lectus viverra enim\, ac fermentum nunc nibh non lectus. Donec aliquet diam sit amet nibh adipiscing pharetra at eu mi. In in porta dui. Suspendisse sed tellus mattis\, consectetur neque eget\, sodales lorem. Morbi eu egestas leo\, ut suscipit nisi. Curabitur ultricies faucibus massa\, at dictum turpis scelerisque in. Aenean ut fermentum ipsum. Integer tincidunt sapien sit amet nibh varius\, non mollis metus tincidunt. \n[/vc_column][/vc_row]
URL:https://zeusonmedicines.com/event/duis-posuere-libero-utlis/
LOCATION:Indoor Stadium\, 5\, Station Road\, California\, CA\, 90013\, United States
ATTACH;FMTTYPE=:
ORGANIZER;CN="Best Event Makers":MAILTO:info@bestevtmkrs.com
END:VEVENT
BEGIN:VEVENT
DTSTART;VALUE=DATE:20160423
DTEND;VALUE=DATE:20160424
DTSTAMP:20260423T181902
CREATED:20140913T041940Z
LAST-MODIFIED:20140913T041940Z
UID:275-1461369600-1461455999@zeusonmedicines.com
SUMMARY:Nunc kusebr nkiuebr qereiu
DESCRIPTION:[vc_row][vc_column] \nNulla tempus neque massa\, id mollis neque convallis ut. Morbi est velit\, tincidunt quis felis et\, consequat mollis nibh. Aliquam porttitor metus augue\, vel commodo nisi viverra nec. Praesent eget adipiscing nisi\, a vehicula tellus. Mauris vitae accumsan lectus\, quis pellentesque nisl. Aliquam tincidunt molestie magna\, nec aliquam dui lacinia quis. Cras elementum tortor eget nunc sollicitudin tincidunt. Sed rutrum nulla fringilla lorem ultrices rhoncus. Cras non dolor id elit rhoncus tempus. Pellentesque mattis\, nibh dignissim adipiscing convallis\, enim lectus viverra enim\, ac fermentum nunc nibh non lectus. Donec aliquet diam sit amet nibh adipiscing pharetra at eu mi. In in porta dui. Suspendisse sed tellus mattis\, consectetur neque eget\, sodales lorem. Morbi eu egestas leo\, ut suscipit nisi. Curabitur ultricies faucibus massa\, at dictum turpis scelerisque in. Aenean ut fermentum ipsum. Integer tincidunt sapien sit amet nibh varius\, non mollis metus tincidunt. \n[/vc_column][/vc_row]
URL:https://zeusonmedicines.com/event/nunc-kusebr-nkiuebr-qereiu/
LOCATION:Indoor Stadium\, 5\, Station Road\, California\, CA\, 90013\, United States
ATTACH;FMTTYPE=:
ORGANIZER;CN="Best Event Makers":MAILTO:info@bestevtmkrs.com
END:VEVENT
BEGIN:VEVENT
DTSTART;VALUE=DATE:20160316
DTEND;VALUE=DATE:20160317
DTSTAMP:20260423T181902
CREATED:20140913T041936Z
LAST-MODIFIED:20140913T041936Z
UID:274-1458086400-1458172799@zeusonmedicines.com
SUMMARY:Sed dignissim sem pellent
DESCRIPTION:[vc_row][vc_column] \nNulla tempus neque massa\, id mollis neque convallis ut. Morbi est velit\, tincidunt quis felis et\, consequat mollis nibh. Aliquam porttitor metus augue\, vel commodo nisi viverra nec. Praesent eget adipiscing nisi\, a vehicula tellus. Mauris vitae accumsan lectus\, quis pellentesque nisl. Aliquam tincidunt molestie magna\, nec aliquam dui lacinia quis. Cras elementum tortor eget nunc sollicitudin tincidunt. Sed rutrum nulla fringilla lorem ultrices rhoncus. Cras non dolor id elit rhoncus tempus. Pellentesque mattis\, nibh dignissim adipiscing convallis\, enim lectus viverra enim\, ac fermentum nunc nibh non lectus. Donec aliquet diam sit amet nibh adipiscing pharetra at eu mi. In in porta dui. Suspendisse sed tellus mattis\, consectetur neque eget\, sodales lorem. Morbi eu egestas leo\, ut suscipit nisi. Curabitur ultricies faucibus massa\, at dictum turpis scelerisque in. Aenean ut fermentum ipsum. Integer tincidunt sapien sit amet nibh varius\, non mollis metus tincidunt. \n[/vc_column][/vc_row]
URL:https://zeusonmedicines.com/event/sed-dignissim-sem-pellent/
LOCATION:Indoor Stadium\, 5\, Station Road\, California\, CA\, 90013\, United States
ATTACH;FMTTYPE=:
ORGANIZER;CN="Best Event Makers":MAILTO:info@bestevtmkrs.com
END:VEVENT
BEGIN:VEVENT
DTSTART;VALUE=DATE:20160123
DTEND;VALUE=DATE:20160124
DTSTAMP:20260423T181902
CREATED:20140913T041928Z
LAST-MODIFIED:20140913T041928Z
UID:272-1453507200-1453593599@zeusonmedicines.com
SUMMARY:Donec fermentum massanunc
DESCRIPTION:[vc_row][vc_column] \nNulla tempus neque massa\, id mollis neque convallis ut. Morbi est velit\, tincidunt quis felis et\, consequat mollis nibh. Aliquam porttitor metus augue\, vel commodo nisi viverra nec. Praesent eget adipiscing nisi\, a vehicula tellus. Mauris vitae accumsan lectus\, quis pellentesque nisl. Aliquam tincidunt molestie magna\, nec aliquam dui lacinia quis. Cras elementum tortor eget nunc sollicitudin tincidunt. Sed rutrum nulla fringilla lorem ultrices rhoncus. Cras non dolor id elit rhoncus tempus. Pellentesque mattis\, nibh dignissim adipiscing convallis\, enim lectus viverra enim\, ac fermentum nunc nibh non lectus. Donec aliquet diam sit amet nibh adipiscing pharetra at eu mi. In in porta dui. Suspendisse sed tellus mattis\, consectetur neque eget\, sodales lorem. Morbi eu egestas leo\, ut suscipit nisi. Curabitur ultricies faucibus massa\, at dictum turpis scelerisque in. Aenean ut fermentum ipsum. Integer tincidunt sapien sit amet nibh varius\, non mollis metus tincidunt. \n[/vc_column][/vc_row]
URL:https://zeusonmedicines.com/event/donec-fermentum-massanunc/
LOCATION:Indoor Stadium\, 5\, Station Road\, California\, CA\, 90013\, United States
ATTACH;FMTTYPE=:
ORGANIZER;CN="Best Event Makers":MAILTO:info@bestevtmkrs.com
END:VEVENT
BEGIN:VEVENT
DTSTART;VALUE=DATE:20151227
DTEND;VALUE=DATE:20151228
DTSTAMP:20260423T181902
CREATED:20140913T041920Z
LAST-MODIFIED:20140913T041920Z
UID:270-1451174400-1451260799@zeusonmedicines.com
SUMMARY:Sed fringilla sapien iddol
DESCRIPTION:[vc_row][vc_column] \nNulla tempus neque massa\, id mollis neque convallis ut. Morbi est velit\, tincidunt quis felis et\, consequat mollis nibh. Aliquam porttitor metus augue\, vel commodo nisi viverra nec. Praesent eget adipiscing nisi\, a vehicula tellus. Mauris vitae accumsan lectus\, quis pellentesque nisl. Aliquam tincidunt molestie magna\, nec aliquam dui lacinia quis. Cras elementum tortor eget nunc sollicitudin tincidunt. Sed rutrum nulla fringilla lorem ultrices rhoncus. Cras non dolor id elit rhoncus tempus. Pellentesque mattis\, nibh dignissim adipiscing convallis\, enim lectus viverra enim\, ac fermentum nunc nibh non lectus. Donec aliquet diam sit amet nibh adipiscing pharetra at eu mi. In in porta dui. Suspendisse sed tellus mattis\, consectetur neque eget\, sodales lorem. Morbi eu egestas leo\, ut suscipit nisi. Curabitur ultricies faucibus massa\, at dictum turpis scelerisque in. Aenean ut fermentum ipsum. Integer tincidunt sapien sit amet nibh varius\, non mollis metus tincidunt. \n[/vc_column][/vc_row]
URL:https://zeusonmedicines.com/event/sed-fringilla-sapien-iddol/
LOCATION:Indoor Stadium\, 5\, Station Road\, California\, CA\, 90013\, United States
ATTACH;FMTTYPE=:
ORGANIZER;CN="Best Event Makers":MAILTO:info@bestevtmkrs.com
END:VEVENT
END:VCALENDAR